BEGIN:VCALENDAR
VERSION:2.0
PRODID:-//Matecumbe Historical Trust Corp. - ECPv6.15.20//NONSGML v1.0//EN
CALSCALE:GREGORIAN
METHOD:PUBLISH
X-WR-CALNAME:Matecumbe Historical Trust Corp.
X-ORIGINAL-URL:https://matecumbehistoricaltrust.org
X-WR-CALDESC:Events for Matecumbe Historical Trust Corp.
REFRESH-INTERVAL;VALUE=DURATION:PT1H
X-Robots-Tag:noindex
X-PUBLISHED-TTL:PT1H
BEGIN:VTIMEZONE
TZID:America/New_York
BEGIN:DAYLIGHT
TZOFFSETFROM:-0500
TZOFFSETTO:-0400
TZNAME:EDT
DTSTART:20240310T070000
END:DAYLIGHT
BEGIN:STANDARD
TZOFFSETFROM:-0400
TZOFFSETTO:-0500
TZNAME:EST
DTSTART:20241103T060000
END:STANDARD
BEGIN:DAYLIGHT
TZOFFSETFROM:-0500
TZOFFSETTO:-0400
TZNAME:EDT
DTSTART:20250309T070000
END:DAYLIGHT
BEGIN:STANDARD
TZOFFSETFROM:-0400
TZOFFSETTO:-0500
TZNAME:EST
DTSTART:20251102T060000
END:STANDARD
BEGIN:DAYLIGHT
TZOFFSETFROM:-0500
TZOFFSETTO:-0400
TZNAME:EDT
DTSTART:20260308T070000
END:DAYLIGHT
BEGIN:STANDARD
TZOFFSETFROM:-0400
TZOFFSETTO:-0500
TZNAME:EST
DTSTART:20261101T060000
END:STANDARD
END:VTIMEZONE
BEGIN:VEVENT
DTSTART;TZID=America/New_York:20250812T180000
DTEND;TZID=America/New_York:20250812T190000
DTSTAMP:20260420T032900
CREATED:20250727T194542Z
LAST-MODIFIED:20250727T194542Z
UID:1786-1755021600-1755025200@matecumbehistoricaltrust.org
SUMMARY:Keys Worst Hurricanes
DESCRIPTION:The Matecumbe Historical Trust next free presentation will be held on Tuesday\, August 12th at 6:00 pm in the Islamorada Public Library located at mm 81.5.  The presentation “Keys Worst Hurricanes” is from the Irving R Eyster collection and will show several of our local Hurricanes starting with the 1733 Spanish Treasure Fleet\, leading up to the 1935 Hurricane\, Hurricane Donna in 1960 and Hurricane Irma in 2017.  These were some of the most destructive hurricanes in Florida Keys history with the 1935 Hurricane being the strongest storm of the century.\nThe Presentation is free and open to the public.  For more information call 305-393-0940.
URL:https://matecumbehistoricaltrust.org/event/keys-worst-hurricanes-2/
LOCATION:Islamorada Public Library\, 81830 Overseas Highway\, Islamorada\, FL\, 33936\, United States
ATTACH;FMTTYPE=image/jpeg:https://matecumbehistoricaltrust.org/wp-content/uploads/2025/07/Ferry-Landing-and-railway-washed-out-1935.jpg
END:VEVENT
END:VCALENDAR