BEGIN:VCALENDAR
VERSION:2.0
PRODID:-//Matecumbe Historical Trust Corp. - ECPv6.15.20//NONSGML v1.0//EN
CALSCALE:GREGORIAN
METHOD:PUBLISH
X-ORIGINAL-URL:https://matecumbehistoricaltrust.org
X-WR-CALDESC:Events for Matecumbe Historical Trust Corp.
REFRESH-INTERVAL;VALUE=DURATION:PT1H
X-Robots-Tag:noindex
X-PUBLISHED-TTL:PT1H
BEGIN:VTIMEZONE
TZID:America/New_York
BEGIN:DAYLIGHT
TZOFFSETFROM:-0500
TZOFFSETTO:-0400
TZNAME:EDT
DTSTART:20240310T070000
END:DAYLIGHT
BEGIN:STANDARD
TZOFFSETFROM:-0400
TZOFFSETTO:-0500
TZNAME:EST
DTSTART:20241103T060000
END:STANDARD
BEGIN:DAYLIGHT
TZOFFSETFROM:-0500
TZOFFSETTO:-0400
TZNAME:EDT
DTSTART:20250309T070000
END:DAYLIGHT
BEGIN:STANDARD
TZOFFSETFROM:-0400
TZOFFSETTO:-0500
TZNAME:EST
DTSTART:20251102T060000
END:STANDARD
BEGIN:DAYLIGHT
TZOFFSETFROM:-0500
TZOFFSETTO:-0400
TZNAME:EDT
DTSTART:20260308T070000
END:DAYLIGHT
BEGIN:STANDARD
TZOFFSETFROM:-0400
TZOFFSETTO:-0500
TZNAME:EST
DTSTART:20261101T060000
END:STANDARD
END:VTIMEZONE
BEGIN:VEVENT
DTSTART;TZID=America/New_York:20250408T180000
DTEND;TZID=America/New_York:20250408T190000
DTSTAMP:20260420T102548
CREATED:20250404T124258Z
LAST-MODIFIED:20250404T124258Z
UID:1714-1744135200-1744138800@matecumbehistoricaltrust.org
SUMMARY:"Who Made The Everglades"
DESCRIPTION:Our guest speaker is Sara Ayers-Rigsby\, Director of the Southeast/Southwest Regions of the Florida Public Archaeology Network and Florida Atlantic University Anthropology Department.\nHer subject will be “Who Made the Everglades?”\nIn this talk we will learn about the science of archaeology\, and the identification of major archaeological sites in South Florida. This talk will explore the geological and cultural history of the Everglades. In particular\, we will look at the role of early Native Americans and initial tree island formations\, and how we continue to impact the Everglades today.  The program is Free and open to the public.  For more information please call 305-393-0940.
URL:https://matecumbehistoricaltrust.org/event/who-made-the-everglades/
ATTACH;FMTTYPE=image/jpeg:https://matecumbehistoricaltrust.org/wp-content/uploads/2025/04/Sara.jpg
END:VEVENT
END:VCALENDAR