BEGIN:VCALENDAR
VERSION:2.0
PRODID:-//Matecumbe Historical Trust Corp. - ECPv6.15.20//NONSGML v1.0//EN
CALSCALE:GREGORIAN
METHOD:PUBLISH
X-ORIGINAL-URL:https://matecumbehistoricaltrust.org
X-WR-CALDESC:Events for Matecumbe Historical Trust Corp.
REFRESH-INTERVAL;VALUE=DURATION:PT1H
X-Robots-Tag:noindex
X-PUBLISHED-TTL:PT1H
BEGIN:VTIMEZONE
TZID:America/New_York
BEGIN:DAYLIGHT
TZOFFSETFROM:-0500
TZOFFSETTO:-0400
TZNAME:EDT
DTSTART:20240310T070000
END:DAYLIGHT
BEGIN:STANDARD
TZOFFSETFROM:-0400
TZOFFSETTO:-0500
TZNAME:EST
DTSTART:20241103T060000
END:STANDARD
BEGIN:DAYLIGHT
TZOFFSETFROM:-0500
TZOFFSETTO:-0400
TZNAME:EDT
DTSTART:20250309T070000
END:DAYLIGHT
BEGIN:STANDARD
TZOFFSETFROM:-0400
TZOFFSETTO:-0500
TZNAME:EST
DTSTART:20251102T060000
END:STANDARD
BEGIN:DAYLIGHT
TZOFFSETFROM:-0500
TZOFFSETTO:-0400
TZNAME:EDT
DTSTART:20260308T070000
END:DAYLIGHT
BEGIN:STANDARD
TZOFFSETFROM:-0400
TZOFFSETTO:-0500
TZNAME:EST
DTSTART:20261101T060000
END:STANDARD
END:VTIMEZONE
BEGIN:VEVENT
DTSTART;TZID=America/New_York:20250311T180000
DTEND;TZID=America/New_York:20250311T190000
DTSTAMP:20260420T121425
CREATED:20250225T163753Z
LAST-MODIFIED:20250225T163753Z
UID:1708-1741716000-1741719600@matecumbehistoricaltrust.org
SUMMARY:The Old Florida Keys in 3D
DESCRIPTION:The Matecumbe Historical Trust and the Islamorada Public Library will host our next free lecture in the Islamorada Public Library on Tuesday\, March 11th starting at 6 pm.\nDr. Corey Malcom\, Lead Historian for the Florida Keys History Center\, will present “The Old Florida Keys in 3D.” This presentation will explore the art of stereophotography as practiced in the Florida Keys over the past 160 years\, and he will explain the history and technology behind the technique. Using special software\, Malcom has converted the FKHC’s collection of 19th and 20th century Keys stereo photographs to an audience-friendly format\, and they will be shown in all their 3D glory! 3D glasses will be provided.\nThe Florida Keys History Center is a division of the Monroe County Library System tasked with the following mission: “To explore\, preserve\, promote\, and make accessible the history of Monroe County\, Florida.”\nThe presentation is free and open to the public.  For more information\, please visit MatecumbeHistoricalTrust.org or call 305-393-0940.
URL:https://matecumbehistoricaltrust.org/event/the-old-florida-keys-in-3d/
LOCATION:Islamorada Public Library\, 81830 Overseas Highway\, Islamorada\, FL\, 33936\, United States
ATTACH;FMTTYPE=image/jpeg:https://matecumbehistoricaltrust.org/wp-content/uploads/2025/02/Old-Florida-Keys-In-3D-Copy.jpg
END:VEVENT
END:VCALENDAR