BEGIN:VCALENDAR
VERSION:2.0
PRODID:-//Matecumbe Historical Trust Corp. - ECPv6.15.20//NONSGML v1.0//EN
CALSCALE:GREGORIAN
METHOD:PUBLISH
X-ORIGINAL-URL:https://matecumbehistoricaltrust.org
X-WR-CALDESC:Events for Matecumbe Historical Trust Corp.
REFRESH-INTERVAL;VALUE=DURATION:PT1H
X-Robots-Tag:noindex
X-PUBLISHED-TTL:PT1H
BEGIN:VTIMEZONE
TZID:America/New_York
BEGIN:DAYLIGHT
TZOFFSETFROM:-0500
TZOFFSETTO:-0400
TZNAME:EDT
DTSTART:20240310T070000
END:DAYLIGHT
BEGIN:STANDARD
TZOFFSETFROM:-0400
TZOFFSETTO:-0500
TZNAME:EST
DTSTART:20241103T060000
END:STANDARD
BEGIN:DAYLIGHT
TZOFFSETFROM:-0500
TZOFFSETTO:-0400
TZNAME:EDT
DTSTART:20250309T070000
END:DAYLIGHT
BEGIN:STANDARD
TZOFFSETFROM:-0400
TZOFFSETTO:-0500
TZNAME:EST
DTSTART:20251102T060000
END:STANDARD
BEGIN:DAYLIGHT
TZOFFSETFROM:-0500
TZOFFSETTO:-0400
TZNAME:EDT
DTSTART:20260308T070000
END:DAYLIGHT
BEGIN:STANDARD
TZOFFSETFROM:-0400
TZOFFSETTO:-0500
TZNAME:EST
DTSTART:20261101T060000
END:STANDARD
END:VTIMEZONE
BEGIN:VEVENT
DTSTART;TZID=America/New_York:20250211T180000
DTEND;TZID=America/New_York:20250211T190000
DTSTAMP:20260420T192629
CREATED:20250131T202458Z
LAST-MODIFIED:20250131T202458Z
UID:1700-1739296800-1739300400@matecumbehistoricaltrust.org
SUMMARY:Submerged cemetery at Fort Jefferson\, Dry Tortugas
DESCRIPTION:Presentation is free and open to the public.\nOur guest speaker will be Joshua Marano\, an archaeologist with South Florida National Parks.\nThe recent discovery of the archeological remains of a now submerged yellow fever hospital and post cemetery at Fort Jefferson in Dry Tortugas National Park led to a myriad of interesting research questions and management challenges.  Additionally\, park staff have worked to document\, transcribe\, and interpret the stories of more than 200 men\, women\, and children who died at Fort Jefferson and to make meaningful connections with current generations\, utilizing genealogical research to identify possible descendants. Management efforts have also focused on the development of partnerships with the U.S. Army to develop means to document\, interpret\, protect\, and memorialize those who perished at Fort Jefferson.  \nJoshua Marano is currently a maritime archaeologist for Biscayne\, Everglades and Dry Tortugas National Parks working in various capacities since 2012.  He is a graduate of East Carolina University’s program in Maritime Studies and earned an MA degree in maritime history and nautical archaeology.  He has participated in several major maritime projects including digital recording of the Swedish warship Vasa in Stockholm\, Sweden\, the excavation of Blackbeard’s Queen Anne’s Revenge shipwreck and the documentation of the British warship HMS Fowey in the Florida Keys\, as well as a number of projects throughout South Florida and the Caribbean.  Mr. Marano is an active member of the US Coast Guard where he serves as a Chief Petty Officer at USCG Station Fort Lauderdale\, FL\nFor more information\, please visit MatecumbeHistoricalTrust.org or call 305-393-0940.
URL:https://matecumbehistoricaltrust.org/event/submerged-cemetery-at-fort-jefferson-dry-tortugas/
LOCATION:Islamorada Public Library\, 81830 Overseas Highway\, Islamorada\, FL\, 33936\, United States
ATTACH;FMTTYPE=image/jpeg:https://matecumbehistoricaltrust.org/wp-content/uploads/2025/01/Diver-with-headstone.jpg
END:VEVENT
END:VCALENDAR