BEGIN:VCALENDAR
VERSION:2.0
PRODID:-//Matecumbe Historical Trust Corp. - ECPv6.15.20//NONSGML v1.0//EN
CALSCALE:GREGORIAN
METHOD:PUBLISH
X-WR-CALNAME:Matecumbe Historical Trust Corp.
X-ORIGINAL-URL:https://matecumbehistoricaltrust.org
X-WR-CALDESC:Events for Matecumbe Historical Trust Corp.
REFRESH-INTERVAL;VALUE=DURATION:PT1H
X-Robots-Tag:noindex
X-PUBLISHED-TTL:PT1H
BEGIN:VTIMEZONE
TZID:America/New_York
BEGIN:DAYLIGHT
TZOFFSETFROM:-0500
TZOFFSETTO:-0400
TZNAME:EDT
DTSTART:20230312T070000
END:DAYLIGHT
BEGIN:STANDARD
TZOFFSETFROM:-0400
TZOFFSETTO:-0500
TZNAME:EST
DTSTART:20231105T060000
END:STANDARD
BEGIN:DAYLIGHT
TZOFFSETFROM:-0500
TZOFFSETTO:-0400
TZNAME:EDT
DTSTART:20240310T070000
END:DAYLIGHT
BEGIN:STANDARD
TZOFFSETFROM:-0400
TZOFFSETTO:-0500
TZNAME:EST
DTSTART:20241103T060000
END:STANDARD
BEGIN:DAYLIGHT
TZOFFSETFROM:-0500
TZOFFSETTO:-0400
TZNAME:EDT
DTSTART:20250309T070000
END:DAYLIGHT
BEGIN:STANDARD
TZOFFSETFROM:-0400
TZOFFSETTO:-0500
TZNAME:EST
DTSTART:20251102T060000
END:STANDARD
END:VTIMEZONE
BEGIN:VEVENT
DTSTART;TZID=America/New_York:20241112T180000
DTEND;TZID=America/New_York:20241112T190000
DTSTAMP:20260421T060928
CREATED:20241105T145741Z
LAST-MODIFIED:20241105T145741Z
UID:1684-1731434400-1731438000@matecumbehistoricaltrust.org
SUMMARY:Lignumvitae\, Indian Key\, Windley Key\, San Pedro Underwater Preserve State Parks
DESCRIPTION:Presentation by quest speaker Lu Dodson\, park Manager for Lignumvitae Key Botanical State Park\, Indian Key Historical State Park\, Windley Key Fossil Reef Geological State Park\, the San Pedro Underwater Archeological Preserve State Park\, and the Florida Keys Oversea Heritage Trail.\nShe will cover the fascinating progressive history of the islands and the San Pedro\, how they are all inter-related and the status of park projects and events.  She will also show a short video produced by the Park Service highlighting the unique features of each park\, upcoming events in all the parks and the varies volunteer opportunities.\nFree and open to the public.  Call 305-393-0940 for more information.
URL:https://matecumbehistoricaltrust.org/event/lignumvitae-indian-key-windley-key-san-pedro-underwater-preserve-state-parks/
LOCATION:Islamorada Public Library\, 81830 Overseas Highway\, Islamorada\, FL\, 33936\, United States
ATTACH;FMTTYPE=image/jpeg:https://matecumbehistoricaltrust.org/wp-content/uploads/2024/11/Indian-Key-Cisterns-Irving-R.-Eyster-collection-1.jpg
END:VEVENT
END:VCALENDAR