BEGIN:VCALENDAR
VERSION:2.0
PRODID:-//Matecumbe Historical Trust Corp. - ECPv6.15.20//NONSGML v1.0//EN
CALSCALE:GREGORIAN
METHOD:PUBLISH
X-ORIGINAL-URL:https://matecumbehistoricaltrust.org
X-WR-CALDESC:Events for Matecumbe Historical Trust Corp.
REFRESH-INTERVAL;VALUE=DURATION:PT1H
X-Robots-Tag:noindex
X-PUBLISHED-TTL:PT1H
BEGIN:VTIMEZONE
TZID:America/New_York
BEGIN:DAYLIGHT
TZOFFSETFROM:-0500
TZOFFSETTO:-0400
TZNAME:EDT
DTSTART:20230312T070000
END:DAYLIGHT
BEGIN:STANDARD
TZOFFSETFROM:-0400
TZOFFSETTO:-0500
TZNAME:EST
DTSTART:20231105T060000
END:STANDARD
BEGIN:DAYLIGHT
TZOFFSETFROM:-0500
TZOFFSETTO:-0400
TZNAME:EDT
DTSTART:20240310T070000
END:DAYLIGHT
BEGIN:STANDARD
TZOFFSETFROM:-0400
TZOFFSETTO:-0500
TZNAME:EST
DTSTART:20241103T060000
END:STANDARD
BEGIN:DAYLIGHT
TZOFFSETFROM:-0500
TZOFFSETTO:-0400
TZNAME:EDT
DTSTART:20250309T070000
END:DAYLIGHT
BEGIN:STANDARD
TZOFFSETFROM:-0400
TZOFFSETTO:-0500
TZNAME:EST
DTSTART:20251102T060000
END:STANDARD
END:VTIMEZONE
BEGIN:VEVENT
DTSTART;TZID=America/New_York:20241015T183000
DTEND;TZID=America/New_York:20241015T193000
DTSTAMP:20260421T073908
CREATED:20241005T184107Z
LAST-MODIFIED:20241005T184107Z
UID:1680-1729017000-1729020600@matecumbehistoricaltrust.org
SUMMARY:Florida Keys Archaeology & History Presentation
DESCRIPTION:Matecumbe Historical Trust to celebrate International Archaeology Day \nThe Matecumbe Historical Trust hosts this month’s presentation on Tuesday\, October 15th\, at the Islamorada Public Library\, mile marker 81.5 at 6:30 p.m.  A presentation by the late Irving Eyster will show some of the most unusual and fascinating items ever found on our islands to celebrate Internation Archaeology Day.  Eyster\, was a well-known historian and archaeologist\, and had been collecting items and preserving them for future generations for more than 60 years.  \nThis presentation will include items from the early Indians\, shipwrecks\, Flagler’s Railway\, Indian Key\, lighthouses\, maps\, documents\, and rare items.  \nThe Florida Keys has a vast history that needs to be preserved and shared.  We invite you to join us. \nThe lecture is free and open to the public.  For more information\, please call 305-393-0940 or visit MatecumbeHistoricalTrust.org
URL:https://matecumbehistoricaltrust.org/event/florida-keys-archaeology-history-presentation/
LOCATION:Islamorada Public Library\, 81830 Overseas Highway\, Islamorada\, FL\, 33936\, United States
ATTACH;FMTTYPE=image/jpeg:https://matecumbehistoricaltrust.org/wp-content/uploads/2024/10/Olive-jar.jpg
END:VEVENT
END:VCALENDAR