BEGIN:VCALENDAR
VERSION:2.0
PRODID:-//Matecumbe Historical Trust Corp. - ECPv6.15.20//NONSGML v1.0//EN
CALSCALE:GREGORIAN
METHOD:PUBLISH
X-ORIGINAL-URL:https://matecumbehistoricaltrust.org
X-WR-CALDESC:Events for Matecumbe Historical Trust Corp.
REFRESH-INTERVAL;VALUE=DURATION:PT1H
X-Robots-Tag:noindex
X-PUBLISHED-TTL:PT1H
BEGIN:VTIMEZONE
TZID:America/New_York
BEGIN:DAYLIGHT
TZOFFSETFROM:-0500
TZOFFSETTO:-0400
TZNAME:EDT
DTSTART:20230312T070000
END:DAYLIGHT
BEGIN:STANDARD
TZOFFSETFROM:-0400
TZOFFSETTO:-0500
TZNAME:EST
DTSTART:20231105T060000
END:STANDARD
BEGIN:DAYLIGHT
TZOFFSETFROM:-0500
TZOFFSETTO:-0400
TZNAME:EDT
DTSTART:20240310T070000
END:DAYLIGHT
BEGIN:STANDARD
TZOFFSETFROM:-0400
TZOFFSETTO:-0500
TZNAME:EST
DTSTART:20241103T060000
END:STANDARD
BEGIN:DAYLIGHT
TZOFFSETFROM:-0500
TZOFFSETTO:-0400
TZNAME:EDT
DTSTART:20250309T070000
END:DAYLIGHT
BEGIN:STANDARD
TZOFFSETFROM:-0400
TZOFFSETTO:-0500
TZNAME:EST
DTSTART:20251102T060000
END:STANDARD
END:VTIMEZONE
BEGIN:VEVENT
DTSTART;TZID=America/New_York:20240514T180000
DTEND;TZID=America/New_York:20240514T190000
DTSTAMP:20260421T222748
CREATED:20240428T192429Z
LAST-MODIFIED:20240428T192429Z
UID:1662-1715709600-1715713200@matecumbehistoricaltrust.org
SUMMARY:Keys Worst Hurricanes
DESCRIPTION:The Keys Worst Hurricanes\nPresentation from the Irving R Eyster collection\nTuesday May 14\, 2024 at 6:00 pm\nIslamorada Public Library – 81830 Overseas Hwy\nAn audio-visual presentation from Irving Eyster’s collection will be shown on several of our local Hurricanes starting with the 1733 Spanish Treasure Fleet\, leading up to the 1935 Hurricane\, Hurricane Donna in 1960 and Hurricane Irma in 2017.  These were some of the most destructive hurricanes in Florida Keys history with the 1935 Hurricane being the strongest storm of the century. \nFree Presentation – Open to the public\nFor more information contact Barbara at 305-393-0940
URL:https://matecumbehistoricaltrust.org/event/keys-worst-hurricanes/
LOCATION:Islamorada Public Library\, 81830 Overseas Highway\, Islamorada\, FL\, 33936\, United States
ATTACH;FMTTYPE=image/jpeg:https://matecumbehistoricaltrust.org/wp-content/uploads/2024/04/Tea-Table-Key-Relief-Bridge-damaged-by-Hurricane-Donna-in-September-1960-scaled.jpg
END:VEVENT
BEGIN:VEVENT
DTSTART;TZID=America/New_York:20240527T090000
DTEND;TZID=America/New_York:20240527T100000
DTSTAMP:20260421T222748
CREATED:20240515T145459Z
LAST-MODIFIED:20240515T145459Z
UID:1668-1716800400-1716804000@matecumbehistoricaltrust.org
SUMMARY:Memorial Day Service
DESCRIPTION:The Matecumbe Historical Trust will hold their annual Memorial Day Service on Monday\, May 27th starting at 9:00 a.m. at the Islamorada Hurricane Monument\, Mile Marker 81.8 Overseas Highway\, Islamorada.\nThe program will start with an introduction\, followed by the invocation\, Presentation of Colors\, Pledge of Allegiance\, the National Anthem\, guest speakers\, the laying of the memorial wreath sponsored by Centennial Bank\, followed by Taps.  Patriotic songs by The Two Big Brothers\, followed by the benediction.  Residents and visitors are encouraged to attend in observance of Memorial Day.  For additional information please contact Barbara at 305-393-0940
URL:https://matecumbehistoricaltrust.org/event/memorial-day-service-2/
LOCATION:Islamorada Hurricane Monument\, mm 81.5
ATTACH;FMTTYPE=application/pdf:https://matecumbehistoricaltrust.org/wp-content/uploads/2024/05/Memorial-Day-poster.pdf
END:VEVENT
END:VCALENDAR