BEGIN:VCALENDAR
VERSION:2.0
PRODID:-//Matecumbe Historical Trust Corp. - ECPv6.15.20//NONSGML v1.0//EN
CALSCALE:GREGORIAN
METHOD:PUBLISH
X-ORIGINAL-URL:https://matecumbehistoricaltrust.org
X-WR-CALDESC:Events for Matecumbe Historical Trust Corp.
REFRESH-INTERVAL;VALUE=DURATION:PT1H
X-Robots-Tag:noindex
X-PUBLISHED-TTL:PT1H
BEGIN:VTIMEZONE
TZID:America/New_York
BEGIN:DAYLIGHT
TZOFFSETFROM:-0500
TZOFFSETTO:-0400
TZNAME:EDT
DTSTART:20250309T070000
END:DAYLIGHT
BEGIN:STANDARD
TZOFFSETFROM:-0400
TZOFFSETTO:-0500
TZNAME:EST
DTSTART:20251102T060000
END:STANDARD
BEGIN:DAYLIGHT
TZOFFSETFROM:-0500
TZOFFSETTO:-0400
TZNAME:EDT
DTSTART:20260308T070000
END:DAYLIGHT
BEGIN:STANDARD
TZOFFSETFROM:-0400
TZOFFSETTO:-0500
TZNAME:EST
DTSTART:20261101T060000
END:STANDARD
BEGIN:DAYLIGHT
TZOFFSETFROM:-0500
TZOFFSETTO:-0400
TZNAME:EDT
DTSTART:20270314T070000
END:DAYLIGHT
BEGIN:STANDARD
TZOFFSETFROM:-0400
TZOFFSETTO:-0500
TZNAME:EST
DTSTART:20271107T060000
END:STANDARD
END:VTIMEZONE
BEGIN:VEVENT
DTSTART;TZID=America/New_York:20260428T180000
DTEND;TZID=America/New_York:20260428T190000
DTSTAMP:20260421T141336
CREATED:20260421T145350Z
LAST-MODIFIED:20260421T145350Z
UID:1820-1777399200-1777402800@matecumbehistoricaltrust.org
SUMMARY:Who Shaped the Sportfishing Capital of the World by Tammie Gurgiolo
DESCRIPTION:Photo:  Jeane and Irving Eyster with Captain Don Gurgiolo in 1953.  Irving’s parents and brother standing. \nThe Matecumbe Historical Trust will hold a free presentation on Tuesday\, April 28th at the Islamorada Public Library starting at 6 pm. Tammie Gurgiolo talk about how Islamorada became the Sportfishing Capital of the World and who paved the way. Tammie\, the daughter of legendary Capt. Don Gurgiolo and charter boat Gonfishin V fame will discuss the sportfishing industry of Islamorada from the WWII era moving forward. She will talk about the women who fished while the men were at war and who the mover and shakers were after. \nTammie was born and raised in Islamorada and saltwater runs through her veins. Just like her father she loves to fish. She spent over 35 years running tournaments and promoting Islamorada in the sportfishing industry. She has been restoring her beloved Gonfishin V that was her father’s final sportfishing boat and hopes to soon have her back out on the water. The presentation is free and open to the public. For more information please call 305-393-0940.
URL:https://matecumbehistoricaltrust.org/event/who-shaped-the-sportfishing-capital-of-the-world-by-tammie-gurgiolo/
LOCATION:Islamorada Public Library\, 81830 Overseas Highway\, Islamorada\, FL\, 33936\, United States
ATTACH;FMTTYPE=image/jpeg:https://matecumbehistoricaltrust.org/wp-content/uploads/2026/04/Jeane-and-Irving-Eyster-with-Capt-Don-Gurgiolo-in-1953.-Irvings-parents-and-brother-standing-1.jpg
END:VEVENT
END:VCALENDAR