BEGIN:VCALENDAR
VERSION:2.0
PRODID:-//Matecumbe Historical Trust Corp. - ECPv6.15.20//NONSGML v1.0//EN
CALSCALE:GREGORIAN
METHOD:PUBLISH
X-WR-CALNAME:Matecumbe Historical Trust Corp.
X-ORIGINAL-URL:https://matecumbehistoricaltrust.org
X-WR-CALDESC:Events for Matecumbe Historical Trust Corp.
REFRESH-INTERVAL;VALUE=DURATION:PT1H
X-Robots-Tag:noindex
X-PUBLISHED-TTL:PT1H
BEGIN:VTIMEZONE
TZID:America/New_York
BEGIN:DAYLIGHT
TZOFFSETFROM:-0500
TZOFFSETTO:-0400
TZNAME:EDT
DTSTART:20240310T070000
END:DAYLIGHT
BEGIN:STANDARD
TZOFFSETFROM:-0400
TZOFFSETTO:-0500
TZNAME:EST
DTSTART:20241103T060000
END:STANDARD
BEGIN:DAYLIGHT
TZOFFSETFROM:-0500
TZOFFSETTO:-0400
TZNAME:EDT
DTSTART:20250309T070000
END:DAYLIGHT
BEGIN:STANDARD
TZOFFSETFROM:-0400
TZOFFSETTO:-0500
TZNAME:EST
DTSTART:20251102T060000
END:STANDARD
BEGIN:DAYLIGHT
TZOFFSETFROM:-0500
TZOFFSETTO:-0400
TZNAME:EDT
DTSTART:20260308T070000
END:DAYLIGHT
BEGIN:STANDARD
TZOFFSETFROM:-0400
TZOFFSETTO:-0500
TZNAME:EST
DTSTART:20261101T060000
END:STANDARD
BEGIN:DAYLIGHT
TZOFFSETFROM:-0500
TZOFFSETTO:-0400
TZNAME:EDT
DTSTART:20270314T070000
END:DAYLIGHT
BEGIN:STANDARD
TZOFFSETFROM:-0400
TZOFFSETTO:-0500
TZNAME:EST
DTSTART:20271107T060000
END:STANDARD
END:VTIMEZONE
BEGIN:VEVENT
DTSTART;TZID=America/New_York:20250901T090000
DTEND;TZID=America/New_York:20250901T100000
DTSTAMP:20260421T221254
CREATED:20250814T153942Z
LAST-MODIFIED:20250814T153942Z
UID:1790-1756717200-1756720800@matecumbehistoricaltrust.org
SUMMARY:Labor Day Service - 90th Anniversary of the 1935 Labor Day Hurricane
DESCRIPTION:The Matecumbe Historical Trust will hold their annual Labor Day Service on Monday\, September 1st starting at 9am at the Islamorada Hurricane Monument\, mile marker 81.5.  Please join us in memory of those who perished 90 years ago in the 1935 Labor Day Hurricane. \nThe Hurricane Monument memorializes hundreds of local citizens and American Veterans who perished in the two hundred mile an hour winds and 17-foot storm surge.  After World War 1\, over 600 veterans came to the Florida Keys to help complete U.S. Highway One\, along with other projects.  The storm hit resulting in the death of almost five hundred people\, many who lived here along with the veterans who were not removed and should have been. \nEach year the Matecumbe Historical Trust holds a service to pay tribute to those who lost their lives.  On the 75th anniversary of the storm\, the Matecumbe Historical Trust hosted the first survivor’s reunion with seven of the survivors telling what they went through the night of the hurricane.  We will retell parts of what they said.  There are only two survivors left. \nThe service will include the introduction\, Invocation\, Presentation of Colors\, National Anthem\, guest speakers\, history of the hurricane\, the laying of the memorial wreath\, Taps\, Patriotic songs\, and the Benediction.  For more information\, please call 305-393-0940.
URL:https://matecumbehistoricaltrust.org/event/labor-day-service-90th-anniversary-of-the-1935-labor-day-hurricane/
LOCATION:Islamorada Hurricane Monument\, mm 81.5
ATTACH;FMTTYPE=image/jpeg:https://matecumbehistoricaltrust.org/wp-content/uploads/2025/08/Monument-dedication-November-14-1937-1.jpg
END:VEVENT
BEGIN:VEVENT
DTSTART;TZID=America/New_York:20260324T180000
DTEND;TZID=America/New_York:20260324T180000
DTSTAMP:20260421T221254
CREATED:20260325T184202Z
LAST-MODIFIED:20260325T184202Z
UID:1812-1774375200-1774375200@matecumbehistoricaltrust.org
SUMMARY:Politics in the Florida Keys over the past 60 years.
DESCRIPTION:ISLAMORADA VILLAGE MANAGER WILL BE GUEST SPEAKER \nIslamorada Village Manager Ron Saunders will be the guest speaker at this month’s lecture hosted by the Matecumbe Historical Trust on Tuesday\, March 24th at the Islamorada Public Library at 6pm. Ron’s subject will be “Politics in the Florida Keys over the last 60 years”. \nA lifelong Keys resident\, Saunders was selected by the Islamorada Village Council to serve as Village Manager beginning in April 2025. He is the chief administrative officer of the Village and supervises all department staff. \nFrom 1986 to 1994 and from 2006 to 2012\, Ron represented Islamorada and the rest of the Keys in the Florida House of Representatives. During his tenure in Tallahassee\, Saunders was a member of both the majority party and minority party. Ron served as Chair of the House Appropriations Committee\, responsible for the state’s multi-billion dollar budget and was twice selected as the Most Effective Member of the 120-member House. He later was elected to serve as House Minority Leader in his final term of office. \nHis father\, Judge Jack A. Saunders\, represented Monroe County in the Florida House of representatives in the early 1960s. \nThe lecture is free and open to the public. For information call 305-393-0940. \n 
URL:https://matecumbehistoricaltrust.org/event/politics-in-the-florida-keys-over-the-past-60-years/
LOCATION:FL
ATTACH;FMTTYPE=image/jpeg:https://matecumbehistoricaltrust.org/wp-content/uploads/2026/03/SaundersRonHeadshot-1.jpg
END:VEVENT
BEGIN:VEVENT
DTSTART;TZID=America/New_York:20260428T180000
DTEND;TZID=America/New_York:20260428T190000
DTSTAMP:20260421T221254
CREATED:20260421T145350Z
LAST-MODIFIED:20260421T145350Z
UID:1820-1777399200-1777402800@matecumbehistoricaltrust.org
SUMMARY:Who Shaped the Sportfishing Capital of the World by Tammie Gurgiolo
DESCRIPTION:Photo:  Jeane and Irving Eyster with Captain Don Gurgiolo in 1953.  Irving’s parents and brother standing. \nThe Matecumbe Historical Trust will hold a free presentation on Tuesday\, April 28th at the Islamorada Public Library starting at 6 pm. Tammie Gurgiolo talk about how Islamorada became the Sportfishing Capital of the World and who paved the way. Tammie\, the daughter of legendary Capt. Don Gurgiolo and charter boat Gonfishin V fame will discuss the sportfishing industry of Islamorada from the WWII era moving forward. She will talk about the women who fished while the men were at war and who the mover and shakers were after. \nTammie was born and raised in Islamorada and saltwater runs through her veins. Just like her father she loves to fish. She spent over 35 years running tournaments and promoting Islamorada in the sportfishing industry. She has been restoring her beloved Gonfishin V that was her father’s final sportfishing boat and hopes to soon have her back out on the water. The presentation is free and open to the public. For more information please call 305-393-0940.
URL:https://matecumbehistoricaltrust.org/event/who-shaped-the-sportfishing-capital-of-the-world-by-tammie-gurgiolo/
LOCATION:Islamorada Public Library\, 81830 Overseas Highway\, Islamorada\, FL\, 33936\, United States
ATTACH;FMTTYPE=image/jpeg:https://matecumbehistoricaltrust.org/wp-content/uploads/2026/04/Jeane-and-Irving-Eyster-with-Capt-Don-Gurgiolo-in-1953.-Irvings-parents-and-brother-standing-1.jpg
END:VEVENT
END:VCALENDAR