BEGIN:VCALENDAR
VERSION:2.0
PRODID:-//Matecumbe Historical Trust Corp. - ECPv6.15.20//NONSGML v1.0//EN
CALSCALE:GREGORIAN
METHOD:PUBLISH
X-ORIGINAL-URL:https://matecumbehistoricaltrust.org
X-WR-CALDESC:Events for Matecumbe Historical Trust Corp.
REFRESH-INTERVAL;VALUE=DURATION:PT1H
X-Robots-Tag:noindex
X-PUBLISHED-TTL:PT1H
BEGIN:VTIMEZONE
TZID:America/New_York
BEGIN:DAYLIGHT
TZOFFSETFROM:-0500
TZOFFSETTO:-0400
TZNAME:EDT
DTSTART:20230312T070000
END:DAYLIGHT
BEGIN:STANDARD
TZOFFSETFROM:-0400
TZOFFSETTO:-0500
TZNAME:EST
DTSTART:20231105T060000
END:STANDARD
BEGIN:DAYLIGHT
TZOFFSETFROM:-0500
TZOFFSETTO:-0400
TZNAME:EDT
DTSTART:20240310T070000
END:DAYLIGHT
BEGIN:STANDARD
TZOFFSETFROM:-0400
TZOFFSETTO:-0500
TZNAME:EST
DTSTART:20241103T060000
END:STANDARD
BEGIN:DAYLIGHT
TZOFFSETFROM:-0500
TZOFFSETTO:-0400
TZNAME:EDT
DTSTART:20250309T070000
END:DAYLIGHT
BEGIN:STANDARD
TZOFFSETFROM:-0400
TZOFFSETTO:-0500
TZNAME:EST
DTSTART:20251102T060000
END:STANDARD
END:VTIMEZONE
BEGIN:VEVENT
DTSTART;TZID=America/New_York:20240902T090000
DTEND;TZID=America/New_York:20240902T100000
DTSTAMP:20260421T103235
CREATED:20240824T153714Z
LAST-MODIFIED:20240824T153714Z
UID:1676-1725267600-1725271200@matecumbehistoricaltrust.org
SUMMARY:Labor Day Service
DESCRIPTION:The Matecumbe Historical Trust will hold their annual Labor Day Service on Monday\, September 2nd starting at 9am at the Islamorada Hurricane Monument\, mile marker 81.5.  Please join us in memory of the those who perished in the 1935 Hurricane and for the unveiling of the 1935 Hurricane Map.\nThe Hurricane Monument memorializes hundreds of American Veterans and local citizens who died in the Hurricane of September 2\, 1935.  After World War 1\, the newly created Federal Emergency Relief Administration offered the unemployed veterans’ jobs.  Over 600 of these men came to the Florida Keys to help complete U.S. Highway One.\nEach year the Matecumbe Historical Trust holds a service to pay tribute to those who lost their lives.  The service will include the introduction\, Invocation\, Presentation of Colors\, National Anthem\, guest speakers\, history of the hurricane\, the laying of the memorial wreath\, Taps\, Patriotic songs\, the Benediction\, and the unveiling of the Hurricane Map.  The Wreath is sponsored by Centennial Bank.  For more information\, please call Barbara at 305-393-0940.
URL:https://matecumbehistoricaltrust.org/event/labor-day-service-2/
LOCATION:Islamorada Hurricane Monument\, mm 81.5
ATTACH;FMTTYPE=image/jpeg:https://matecumbehistoricaltrust.org/wp-content/uploads/2023/05/IMG_7071-Copy.jpg
END:VEVENT
END:VCALENDAR