BEGIN:VCALENDAR
VERSION:2.0
PRODID:-//Matecumbe Historical Trust Corp. - ECPv6.15.20//NONSGML v1.0//EN
CALSCALE:GREGORIAN
METHOD:PUBLISH
X-WR-CALNAME:Matecumbe Historical Trust Corp.
X-ORIGINAL-URL:https://matecumbehistoricaltrust.org
X-WR-CALDESC:Events for Matecumbe Historical Trust Corp.
REFRESH-INTERVAL;VALUE=DURATION:PT1H
X-Robots-Tag:noindex
X-PUBLISHED-TTL:PT1H
BEGIN:VTIMEZONE
TZID:America/New_York
BEGIN:DAYLIGHT
TZOFFSETFROM:-0500
TZOFFSETTO:-0400
TZNAME:EDT
DTSTART:20230312T070000
END:DAYLIGHT
BEGIN:STANDARD
TZOFFSETFROM:-0400
TZOFFSETTO:-0500
TZNAME:EST
DTSTART:20231105T060000
END:STANDARD
BEGIN:DAYLIGHT
TZOFFSETFROM:-0500
TZOFFSETTO:-0400
TZNAME:EDT
DTSTART:20240310T070000
END:DAYLIGHT
BEGIN:STANDARD
TZOFFSETFROM:-0400
TZOFFSETTO:-0500
TZNAME:EST
DTSTART:20241103T060000
END:STANDARD
BEGIN:DAYLIGHT
TZOFFSETFROM:-0500
TZOFFSETTO:-0400
TZNAME:EDT
DTSTART:20250309T070000
END:DAYLIGHT
BEGIN:STANDARD
TZOFFSETFROM:-0400
TZOFFSETTO:-0500
TZNAME:EST
DTSTART:20251102T060000
END:STANDARD
END:VTIMEZONE
BEGIN:VEVENT
DTSTART;TZID=America/New_York:20240409T180000
DTEND;TZID=America/New_York:20240409T190000
DTSTAMP:20260421T222605
CREATED:20240401T134207Z
LAST-MODIFIED:20240401T134207Z
UID:1652-1712685600-1712689200@matecumbehistoricaltrust.org
SUMMARY:Connecting to Nature while Protecting Paradise
DESCRIPTION:On Tuesday\, April 9th\, the Matecumbe Historical Trust guest speaker\, Lindsey Crews\, Science and Outreach Coordinator for the Florida Keys National Marine Sanctuary and National Oceanic and Atmospheric Administration will present:  Connecting to Nature while Protecting Paradise.  Lindsey will discuss the Florida Keys National Marine Sanctuary and the founding of the Sanctuary\, what it looks like today\, and how everyday people can impact its future while working toward protecting our marine life.  Join us at the Islamorada Public Library to better understand our maritime heritage and the ongoing efforts to restore it.  For More information call 305-393-0940.  The Presentation is free and open to the pubic.
URL:https://matecumbehistoricaltrust.org/event/connecting-to-nature-while-protecting-paradise/
LOCATION:Islamorada Public Library\, 81830 Overseas Highway\, Islamorada\, FL\, 33936\, United States
ATTACH;FMTTYPE=image/jpeg:https://matecumbehistoricaltrust.org/wp-content/uploads/2024/04/Credit-Matt-McIntosh-NOAA.jpg
END:VEVENT
END:VCALENDAR